BEGIN:VCALENDAR
VERSION:2.0
PRODID:-//Fairview Primary School - ECPv6.15.17.1//NONSGML v1.0//EN
CALSCALE:GREGORIAN
METHOD:PUBLISH
X-WR-CALNAME:Fairview Primary School
X-ORIGINAL-URL:https://fairviewps.wa.edu.au
X-WR-CALDESC:Events for Fairview Primary School
REFRESH-INTERVAL;VALUE=DURATION:PT1H
X-Robots-Tag:noindex
X-PUBLISHED-TTL:PT1H
BEGIN:VTIMEZONE
TZID:Australia/Perth
BEGIN:STANDARD
TZOFFSETFROM:+0800
TZOFFSETTO:+0800
TZNAME:AWST
DTSTART:20230101T000000
END:STANDARD
END:VTIMEZONE
BEGIN:VEVENT
DTSTART;VALUE=DATE:20240717
DTEND;VALUE=DATE:20240718
DTSTAMP:20260420T071638
CREATED:20240315T053831Z
LAST-MODIFIED:20240315T053831Z
UID:1400-1721174400-1721260799@fairviewps.wa.edu.au
SUMMARY:Kindy day
DESCRIPTION:
URL:https://fairviewps.wa.edu.au/calendar/kindy-day-28/
CATEGORIES:Kindergarten
END:VEVENT
BEGIN:VEVENT
DTSTART;VALUE=DATE:20240718
DTEND;VALUE=DATE:20240719
DTSTAMP:20260420T071638
CREATED:20240315T053903Z
LAST-MODIFIED:20240315T053903Z
UID:1402-1721260800-1721347199@fairviewps.wa.edu.au
SUMMARY:Kindy day
DESCRIPTION:
URL:https://fairviewps.wa.edu.au/calendar/kindy-day-29/
CATEGORIES:Kindergarten
END:VEVENT
BEGIN:VEVENT
DTSTART;VALUE=DATE:20240723
DTEND;VALUE=DATE:20240724
DTSTAMP:20260420T071638
CREATED:20240315T053953Z
LAST-MODIFIED:20240315T053953Z
UID:1404-1721692800-1721779199@fairviewps.wa.edu.au
SUMMARY:Kindy day
DESCRIPTION:
URL:https://fairviewps.wa.edu.au/calendar/kindy-day-30/
CATEGORIES:Kindergarten
END:VEVENT
BEGIN:VEVENT
DTSTART;VALUE=DATE:20240724
DTEND;VALUE=DATE:20240725
DTSTAMP:20260420T071638
CREATED:20240315T054035Z
LAST-MODIFIED:20240315T054035Z
UID:1406-1721779200-1721865599@fairviewps.wa.edu.au
SUMMARY:Kindy day
DESCRIPTION:
URL:https://fairviewps.wa.edu.au/calendar/kindy-day-31/
CATEGORIES:Kindergarten
END:VEVENT
BEGIN:VEVENT
DTSTART;VALUE=DATE:20240725
DTEND;VALUE=DATE:20240726
DTSTAMP:20260420T071638
CREATED:20240315T054100Z
LAST-MODIFIED:20240315T054100Z
UID:1408-1721865600-1721951999@fairviewps.wa.edu.au
SUMMARY:Kindy day
DESCRIPTION:
URL:https://fairviewps.wa.edu.au/calendar/kindy-day-32/
CATEGORIES:Kindergarten
END:VEVENT
BEGIN:VEVENT
DTSTART;VALUE=DATE:20240731
DTEND;VALUE=DATE:20240801
DTSTAMP:20260420T071638
CREATED:20240315T054147Z
LAST-MODIFIED:20240315T054147Z
UID:1410-1722384000-1722470399@fairviewps.wa.edu.au
SUMMARY:Kindy day
DESCRIPTION:
URL:https://fairviewps.wa.edu.au/calendar/kindy-day-33/
CATEGORIES:Kindergarten
END:VEVENT
END:VCALENDAR