BEGIN:VCALENDAR
VERSION:2.0
PRODID:-//Fairview Primary School - ECPv6.15.17.1//NONSGML v1.0//EN
CALSCALE:GREGORIAN
METHOD:PUBLISH
X-WR-CALNAME:Fairview Primary School
X-ORIGINAL-URL:https://fairviewps.wa.edu.au
X-WR-CALDESC:Events for Fairview Primary School
REFRESH-INTERVAL;VALUE=DURATION:PT1H
X-Robots-Tag:noindex
X-PUBLISHED-TTL:PT1H
BEGIN:VTIMEZONE
TZID:Australia/Perth
BEGIN:STANDARD
TZOFFSETFROM:+0800
TZOFFSETTO:+0800
TZNAME:AWST
DTSTART:20230101T000000
END:STANDARD
END:VTIMEZONE
BEGIN:VEVENT
DTSTART;VALUE=DATE:20241009
DTEND;VALUE=DATE:20241010
DTSTAMP:20260420T011115
CREATED:20240315T062920Z
LAST-MODIFIED:20240315T062920Z
UID:1451-1728432000-1728518399@fairviewps.wa.edu.au
SUMMARY:Kindy day
DESCRIPTION:
URL:https://fairviewps.wa.edu.au/calendar/kindy-day-52/
CATEGORIES:Kindergarten
END:VEVENT
BEGIN:VEVENT
DTSTART;VALUE=DATE:20241010
DTEND;VALUE=DATE:20241011
DTSTAMP:20260420T011115
CREATED:20240315T063006Z
LAST-MODIFIED:20240315T063006Z
UID:1453-1728518400-1728604799@fairviewps.wa.edu.au
SUMMARY:Kindy day
DESCRIPTION:
URL:https://fairviewps.wa.edu.au/calendar/kindy-day-53/
CATEGORIES:Kindergarten
END:VEVENT
BEGIN:VEVENT
DTSTART;VALUE=DATE:20241015
DTEND;VALUE=DATE:20241016
DTSTAMP:20260420T011115
CREATED:20240315T063527Z
LAST-MODIFIED:20240315T063527Z
UID:1455-1728950400-1729036799@fairviewps.wa.edu.au
SUMMARY:Kindy day
DESCRIPTION:
URL:https://fairviewps.wa.edu.au/calendar/kindy-day-54/
CATEGORIES:Kindergarten
END:VEVENT
BEGIN:VEVENT
DTSTART;VALUE=DATE:20241016
DTEND;VALUE=DATE:20241017
DTSTAMP:20260420T011115
CREATED:20240315T064321Z
LAST-MODIFIED:20240315T064321Z
UID:1457-1729036800-1729123199@fairviewps.wa.edu.au
SUMMARY:Kindy day
DESCRIPTION:
URL:https://fairviewps.wa.edu.au/calendar/kindy-day-55/
CATEGORIES:Kindergarten
END:VEVENT
BEGIN:VEVENT
DTSTART;VALUE=DATE:20241017
DTEND;VALUE=DATE:20241018
DTSTAMP:20260420T011115
CREATED:20240315T064356Z
LAST-MODIFIED:20240315T064356Z
UID:1459-1729123200-1729209599@fairviewps.wa.edu.au
SUMMARY:Kindy day
DESCRIPTION:
URL:https://fairviewps.wa.edu.au/calendar/kindy-day-56/
CATEGORIES:Kindergarten
END:VEVENT
BEGIN:VEVENT
DTSTART;VALUE=DATE:20241023
DTEND;VALUE=DATE:20241024
DTSTAMP:20260420T011115
CREATED:20240315T064500Z
LAST-MODIFIED:20240315T064500Z
UID:1461-1729641600-1729727999@fairviewps.wa.edu.au
SUMMARY:Kindy day
DESCRIPTION:
URL:https://fairviewps.wa.edu.au/calendar/kindy-day-57/
CATEGORIES:Kindergarten
END:VEVENT
BEGIN:VEVENT
DTSTART;VALUE=DATE:20241024
DTEND;VALUE=DATE:20241025
DTSTAMP:20260420T011115
CREATED:20240315T064529Z
LAST-MODIFIED:20240315T064529Z
UID:1463-1729728000-1729814399@fairviewps.wa.edu.au
SUMMARY:Kindy day
DESCRIPTION:
URL:https://fairviewps.wa.edu.au/calendar/kindy-day-58/
CATEGORIES:Kindergarten
END:VEVENT
BEGIN:VEVENT
DTSTART;VALUE=DATE:20241029
DTEND;VALUE=DATE:20241030
DTSTAMP:20260420T011115
CREATED:20240315T064818Z
LAST-MODIFIED:20240315T064818Z
UID:1465-1730160000-1730246399@fairviewps.wa.edu.au
SUMMARY:Kindy day
DESCRIPTION:
URL:https://fairviewps.wa.edu.au/calendar/kindy-day-59/
CATEGORIES:Kindergarten
END:VEVENT
BEGIN:VEVENT
DTSTART;VALUE=DATE:20241030
DTEND;VALUE=DATE:20241031
DTSTAMP:20260420T011115
CREATED:20240315T064845Z
LAST-MODIFIED:20240315T064845Z
UID:1467-1730246400-1730332799@fairviewps.wa.edu.au
SUMMARY:Kindy day
DESCRIPTION:
URL:https://fairviewps.wa.edu.au/calendar/kindy-day-60/
CATEGORIES:Kindergarten
END:VEVENT
BEGIN:VEVENT
DTSTART;VALUE=DATE:20241031
DTEND;VALUE=DATE:20241101
DTSTAMP:20260420T011115
CREATED:20240315T064917Z
LAST-MODIFIED:20240315T064917Z
UID:1469-1730332800-1730419199@fairviewps.wa.edu.au
SUMMARY:Kindy day
DESCRIPTION:
URL:https://fairviewps.wa.edu.au/calendar/kindy-day-61/
CATEGORIES:Kindergarten
END:VEVENT
END:VCALENDAR