BEGIN:VCALENDAR
VERSION:2.0
PRODID:-//Fairview Primary School - ECPv6.15.17.1//NONSGML v1.0//EN
CALSCALE:GREGORIAN
METHOD:PUBLISH
X-WR-CALNAME:Fairview Primary School
X-ORIGINAL-URL:https://fairviewps.wa.edu.au
X-WR-CALDESC:Events for Fairview Primary School
REFRESH-INTERVAL;VALUE=DURATION:PT1H
X-Robots-Tag:noindex
X-PUBLISHED-TTL:PT1H
BEGIN:VTIMEZONE
TZID:Australia/Perth
BEGIN:STANDARD
TZOFFSETFROM:+0800
TZOFFSETTO:+0800
TZNAME:AWST
DTSTART:20230101T000000
END:STANDARD
END:VTIMEZONE
BEGIN:VEVENT
DTSTART;VALUE=DATE:20240319
DTEND;VALUE=DATE:20240320
DTSTAMP:20260420T131732
CREATED:20240318T064738Z
LAST-MODIFIED:20240318T064738Z
UID:1517-1710806400-1710892799@fairviewps.wa.edu.au
SUMMARY:Kindy day
DESCRIPTION:
URL:https://fairviewps.wa.edu.au/calendar/kindy-day-80/
CATEGORIES:Kindergarten
END:VEVENT
END:VCALENDAR