BEGIN:VCALENDAR
VERSION:2.0
PRODID:-//Fairview Primary School - ECPv6.15.17.1//NONSGML v1.0//EN
CALSCALE:GREGORIAN
METHOD:PUBLISH
X-ORIGINAL-URL:https://fairviewps.wa.edu.au
X-WR-CALDESC:Events for Fairview Primary School
REFRESH-INTERVAL;VALUE=DURATION:PT1H
X-Robots-Tag:noindex
X-PUBLISHED-TTL:PT1H
BEGIN:VTIMEZONE
TZID:Australia/Perth
BEGIN:STANDARD
TZOFFSETFROM:+0800
TZOFFSETTO:+0800
TZNAME:AWST
DTSTART:20230101T000000
END:STANDARD
END:VTIMEZONE
BEGIN:VEVENT
DTSTART;VALUE=DATE:20241128
DTEND;VALUE=DATE:20241129
DTSTAMP:20260420T070010
CREATED:20240318T062850Z
LAST-MODIFIED:20240318T062850Z
UID:1491-1732752000-1732838399@fairviewps.wa.edu.au
SUMMARY:Kindy day
DESCRIPTION:
URL:https://fairviewps.wa.edu.au/calendar/kindy-day-70/
CATEGORIES:Kindergarten
END:VEVENT
BEGIN:VEVENT
DTSTART;VALUE=DATE:20241204
DTEND;VALUE=DATE:20241205
DTSTAMP:20260420T070010
CREATED:20240318T062937Z
LAST-MODIFIED:20240318T062937Z
UID:1493-1733270400-1733356799@fairviewps.wa.edu.au
SUMMARY:Kindy day
DESCRIPTION:
URL:https://fairviewps.wa.edu.au/calendar/kindy-day-71/
CATEGORIES:Kindergarten
END:VEVENT
BEGIN:VEVENT
DTSTART;VALUE=DATE:20241205
DTEND;VALUE=DATE:20241206
DTSTAMP:20260420T070010
CREATED:20240318T063013Z
LAST-MODIFIED:20240318T063013Z
UID:1495-1733356800-1733443199@fairviewps.wa.edu.au
SUMMARY:Kindy day
DESCRIPTION:
URL:https://fairviewps.wa.edu.au/calendar/kindy-day-72/
CATEGORIES:Kindergarten
END:VEVENT
BEGIN:VEVENT
DTSTART;VALUE=DATE:20241210
DTEND;VALUE=DATE:20241211
DTSTAMP:20260420T070010
CREATED:20240318T063042Z
LAST-MODIFIED:20240318T063042Z
UID:1497-1733788800-1733875199@fairviewps.wa.edu.au
SUMMARY:Kindy day
DESCRIPTION:
URL:https://fairviewps.wa.edu.au/calendar/kindy-day-73/
CATEGORIES:Kindergarten
END:VEVENT
BEGIN:VEVENT
DTSTART;VALUE=DATE:20241211
DTEND;VALUE=DATE:20241212
DTSTAMP:20260420T070010
CREATED:20240318T063113Z
LAST-MODIFIED:20240318T063113Z
UID:1499-1733875200-1733961599@fairviewps.wa.edu.au
SUMMARY:Kindy day
DESCRIPTION:
URL:https://fairviewps.wa.edu.au/calendar/kindy-day-74/
CATEGORIES:Kindergarten
END:VEVENT
BEGIN:VEVENT
DTSTART;VALUE=DATE:20241212
DTEND;VALUE=DATE:20241213
DTSTAMP:20260420T070010
CREATED:20240318T063144Z
LAST-MODIFIED:20240318T063144Z
UID:1501-1733961600-1734047999@fairviewps.wa.edu.au
SUMMARY:Kindy day
DESCRIPTION:
URL:https://fairviewps.wa.edu.au/calendar/kindy-day-75/
CATEGORIES:Kindergarten
END:VEVENT
BEGIN:VEVENT
DTSTART;TZID=Australia/Perth:20250904T090000
DTEND;TZID=Australia/Perth:20250904T100000
DTSTAMP:20260420T070010
CREATED:20250729T044149Z
LAST-MODIFIED:20250729T044149Z
UID:1932-1756976400-1756980000@fairviewps.wa.edu.au
SUMMARY:Father's Day Stall
DESCRIPTION:Father’s Day Stall for Kindy Blue students
URL:https://fairviewps.wa.edu.au/calendar/fathers-day-stall-2/
CATEGORIES:Kindergarten,P&C Association
END:VEVENT
END:VCALENDAR