BEGIN:VCALENDAR
VERSION:2.0
PRODID:-//Fairview Primary School - ECPv6.15.17.1//NONSGML v1.0//EN
CALSCALE:GREGORIAN
METHOD:PUBLISH
X-ORIGINAL-URL:https://fairviewps.wa.edu.au
X-WR-CALDESC:Events for Fairview Primary School
REFRESH-INTERVAL;VALUE=DURATION:PT1H
X-Robots-Tag:noindex
X-PUBLISHED-TTL:PT1H
BEGIN:VTIMEZONE
TZID:Australia/Perth
BEGIN:STANDARD
TZOFFSETFROM:+0800
TZOFFSETTO:+0800
TZNAME:AWST
DTSTART:20230101T000000
END:STANDARD
END:VTIMEZONE
BEGIN:VEVENT
DTSTART;TZID=Australia/Perth:20260402T140000
DTEND;TZID=Australia/Perth:20260402T143000
DTSTAMP:20260426T064225
CREATED:20260211T050916Z
LAST-MODIFIED:20260211T050916Z
UID:2246-1775138400-1775140200@fairviewps.wa.edu.au
SUMMARY:Assembly
DESCRIPTION:Assembly hosted Rm 3
URL:https://fairviewps.wa.edu.au/calendar/assembly-21/
CATEGORIES:Whole School
END:VEVENT
BEGIN:VEVENT
DTSTART;TZID=Australia/Perth:20260319T140000
DTEND;TZID=Australia/Perth:20260319T143000
DTSTAMP:20260426T064225
CREATED:20260211T050830Z
LAST-MODIFIED:20260211T050830Z
UID:2244-1773928800-1773930600@fairviewps.wa.edu.au
SUMMARY:Assembly
DESCRIPTION:Assembly hosted by Rm 6
URL:https://fairviewps.wa.edu.au/calendar/assembly-20/
CATEGORIES:Whole School
END:VEVENT
BEGIN:VEVENT
DTSTART;TZID=Australia/Perth:20260219T140000
DTEND;TZID=Australia/Perth:20260219T143000
DTSTAMP:20260426T064225
CREATED:20260211T050742Z
LAST-MODIFIED:20260211T050742Z
UID:2242-1771509600-1771511400@fairviewps.wa.edu.au
SUMMARY:Assembly
DESCRIPTION:Assembly hosted by student leaders
URL:https://fairviewps.wa.edu.au/calendar/assembly-19/
CATEGORIES:Whole School
END:VEVENT
BEGIN:VEVENT
DTSTART;VALUE=DATE:20260218
DTEND;VALUE=DATE:20260219
DTSTAMP:20260426T064225
CREATED:20260211T033335Z
LAST-MODIFIED:20260211T033335Z
UID:2240-1771372800-1771459199@fairviewps.wa.edu.au
SUMMARY:Golf Incursion
DESCRIPTION:Golf incursion for students in Yrs 3-6
URL:https://fairviewps.wa.edu.au/calendar/golf-incursion/
CATEGORIES:Whole School
END:VEVENT
BEGIN:VEVENT
DTSTART;VALUE=DATE:20251219
DTEND;VALUE=DATE:20251220
DTSTAMP:20260426T064225
CREATED:20250130T053923Z
LAST-MODIFIED:20250130T053923Z
UID:1758-1766102400-1766188799@fairviewps.wa.edu.au
SUMMARY:School Development Day
DESCRIPTION:School Development Day – students do not attend.
URL:https://fairviewps.wa.edu.au/calendar/school-development-day-9/
CATEGORIES:Whole School
END:VEVENT
BEGIN:VEVENT
DTSTART;TZID=Australia/Perth:20251217T111500
DTEND;TZID=Australia/Perth:20251217T123000
DTSTAMP:20260426T064225
CREATED:20250227T050050Z
LAST-MODIFIED:20250227T050050Z
UID:1797-1765970100-1765974600@fairviewps.wa.edu.au
SUMMARY:Awards Assembly
DESCRIPTION:End of Year Awards Assembly.
URL:https://fairviewps.wa.edu.au/calendar/awards-assembly-2/
CATEGORIES:Whole School
END:VEVENT
BEGIN:VEVENT
DTSTART;TZID=Australia/Perth:20251217T093000
DTEND;TZID=Australia/Perth:20251217T103000
DTSTAMP:20260426T064225
CREATED:20250227T045945Z
LAST-MODIFIED:20250227T045945Z
UID:1795-1765963800-1765967400@fairviewps.wa.edu.au
SUMMARY:Graduation Assembly
DESCRIPTION:Year 6 Graduation Assembly
URL:https://fairviewps.wa.edu.au/calendar/graduation-assembly-2/
CATEGORIES:Whole School
END:VEVENT
BEGIN:VEVENT
DTSTART;TZID=Australia/Perth:20251211T140000
DTEND;TZID=Australia/Perth:20251211T150000
DTSTAMP:20260426T064225
CREATED:20250227T045838Z
LAST-MODIFIED:20251031T064321Z
UID:1793-1765461600-1765465200@fairviewps.wa.edu.au
SUMMARY:Assembly
DESCRIPTION:Assembly – Rm 10
URL:https://fairviewps.wa.edu.au/calendar/assembly-18/
CATEGORIES:Whole School
END:VEVENT
BEGIN:VEVENT
DTSTART;TZID=Australia/Perth:20251124T080000
DTEND;TZID=Australia/Perth:20251128T170000
DTSTAMP:20260426T064225
CREATED:20250508T025431Z
LAST-MODIFIED:20251119T030538Z
UID:1864-1763971200-1764349200@fairviewps.wa.edu.au
SUMMARY:Swimming lessons
DESCRIPTION:Interm swimming lessons for students in PP – Yr 6.
URL:https://fairviewps.wa.edu.au/calendar/swimming-lessons-2/
CATEGORIES:Whole School
END:VEVENT
BEGIN:VEVENT
DTSTART;TZID=Australia/Perth:20251106T140000
DTEND;TZID=Australia/Perth:20251106T150000
DTSTAMP:20260426T064225
CREATED:20250227T045418Z
LAST-MODIFIED:20251031T064353Z
UID:1789-1762437600-1762441200@fairviewps.wa.edu.au
SUMMARY:Assembly
DESCRIPTION:Assembly LOTE students
URL:https://fairviewps.wa.edu.au/calendar/assembly-17/
CATEGORIES:Whole School
END:VEVENT
BEGIN:VEVENT
DTSTART;VALUE=DATE:20251023
DTEND;VALUE=DATE:20251024
DTSTAMP:20260426T064225
CREATED:20250311T035715Z
LAST-MODIFIED:20250311T035715Z
UID:1820-1761177600-1761263999@fairviewps.wa.edu.au
SUMMARY:Athletics Carnival
DESCRIPTION:Faction athletics carnival held on the senior oval.
URL:https://fairviewps.wa.edu.au/calendar/athletics-carnival-2/
CATEGORIES:Whole School
END:VEVENT
BEGIN:VEVENT
DTSTART;VALUE=DATE:20251016
DTEND;VALUE=DATE:20251017
DTSTAMP:20260426T064225
CREATED:20250311T035547Z
LAST-MODIFIED:20250311T035547Z
UID:1818-1760572800-1760659199@fairviewps.wa.edu.au
SUMMARY:Jumps\, throws and 800m
DESCRIPTION:Athletics events – jumps\, throws and 800m
URL:https://fairviewps.wa.edu.au/calendar/jumps-throws-and-800m/
CATEGORIES:Whole School
END:VEVENT
BEGIN:VEVENT
DTSTART;VALUE=DATE:20251013
DTEND;VALUE=DATE:20251014
DTSTAMP:20260426T064225
CREATED:20250130T053652Z
LAST-MODIFIED:20250130T053652Z
UID:1754-1760313600-1760399999@fairviewps.wa.edu.au
SUMMARY:School Development Day
DESCRIPTION:School Development Day – students do not attend
URL:https://fairviewps.wa.edu.au/calendar/school-development-day-8/
CATEGORIES:Whole School
END:VEVENT
BEGIN:VEVENT
DTSTART;TZID=Australia/Perth:20250924T091000
DTEND;TZID=Australia/Perth:20250924T094500
DTSTAMP:20260426T064225
CREATED:20250227T045221Z
LAST-MODIFIED:20250919T061326Z
UID:1787-1758705000-1758707100@fairviewps.wa.edu.au
SUMMARY:Assembly
DESCRIPTION:Assembly hosted by Rm 19 (Kindy and Pre-primary)
URL:https://fairviewps.wa.edu.au/calendar/assembly-16/
CATEGORIES:Whole School
END:VEVENT
BEGIN:VEVENT
DTSTART;VALUE=DATE:20250917
DTEND;VALUE=DATE:20250918
DTSTAMP:20260426T064225
CREATED:20250605T033134Z
LAST-MODIFIED:20250605T033134Z
UID:1884-1758067200-1758153599@fairviewps.wa.edu.au
SUMMARY:School Photos
DESCRIPTION:School photo day
URL:https://fairviewps.wa.edu.au/calendar/school-photos-2/
CATEGORIES:Whole School
END:VEVENT
BEGIN:VEVENT
DTSTART;TZID=Australia/Perth:20250828T140000
DTEND;TZID=Australia/Perth:20250828T150000
DTSTAMP:20260426T064225
CREATED:20250227T045058Z
LAST-MODIFIED:20250311T041247Z
UID:1785-1756389600-1756393200@fairviewps.wa.edu.au
SUMMARY:Assembly
DESCRIPTION:Assembly – Drama students.
URL:https://fairviewps.wa.edu.au/calendar/assembly-15/
CATEGORIES:Whole School
END:VEVENT
BEGIN:VEVENT
DTSTART;VALUE=DATE:20250822
DTEND;VALUE=DATE:20250823
DTSTAMP:20260426T064225
CREATED:20250130T015309Z
LAST-MODIFIED:20250130T015309Z
UID:1746-1755820800-1755907199@fairviewps.wa.edu.au
SUMMARY:School Development Day
DESCRIPTION:Term 3 School Development Day – students do not attend
URL:https://fairviewps.wa.edu.au/calendar/school-development-day-7/
CATEGORIES:Whole School
END:VEVENT
BEGIN:VEVENT
DTSTART;VALUE=DATE:20250820
DTEND;VALUE=DATE:20250821
DTSTAMP:20260426T064225
CREATED:20250729T043806Z
LAST-MODIFIED:20250729T043806Z
UID:1928-1755648000-1755734399@fairviewps.wa.edu.au
SUMMARY:Book Character Day
DESCRIPTION:Book Character Dress up day to coincide with CBCA Book Week.
URL:https://fairviewps.wa.edu.au/calendar/book-character-day-2/
CATEGORIES:Whole School
END:VEVENT
BEGIN:VEVENT
DTSTART;TZID=Australia/Perth:20250814T140000
DTEND;TZID=Australia/Perth:20250814T150000
DTSTAMP:20260426T064225
CREATED:20250227T044949Z
LAST-MODIFIED:20250729T043541Z
UID:1783-1755180000-1755183600@fairviewps.wa.edu.au
SUMMARY:Assembly
DESCRIPTION:Assembly hosted by Room 12.
URL:https://fairviewps.wa.edu.au/calendar/assembly-14/
CATEGORIES:Whole School
END:VEVENT
BEGIN:VEVENT
DTSTART;VALUE=DATE:20250627
DTEND;VALUE=DATE:20250628
DTSTAMP:20260426T064225
CREATED:20250311T035421Z
LAST-MODIFIED:20250311T035421Z
UID:1816-1750982400-1751068799@fairviewps.wa.edu.au
SUMMARY:Interschool (Hay Park) Cross Country
DESCRIPTION:Interschool cross country event held at Hay Park.
URL:https://fairviewps.wa.edu.au/calendar/interschool-hay-park-cross-country/
CATEGORIES:Whole School
END:VEVENT
BEGIN:VEVENT
DTSTART;TZID=Australia/Perth:20250626T140000
DTEND;TZID=Australia/Perth:20250626T150000
DTSTAMP:20260426T064225
CREATED:20250227T044733Z
LAST-MODIFIED:20250501T060617Z
UID:1781-1750946400-1750950000@fairviewps.wa.edu.au
SUMMARY:Assembly
DESCRIPTION:Assembly hosted by Room 13.
URL:https://fairviewps.wa.edu.au/calendar/assembly-13/
CATEGORIES:Whole School
END:VEVENT
BEGIN:VEVENT
DTSTART;VALUE=DATE:20250613
DTEND;VALUE=DATE:20250614
DTSTAMP:20260426T064225
CREATED:20250311T035302Z
LAST-MODIFIED:20250311T035302Z
UID:1814-1749772800-1749859199@fairviewps.wa.edu.au
SUMMARY:Interschool (Allanson) Cross Country
DESCRIPTION:Interschool cross country held at Allanson PS
URL:https://fairviewps.wa.edu.au/calendar/interschool-allanson-cross-country-2/
CATEGORIES:Whole School
END:VEVENT
BEGIN:VEVENT
DTSTART;VALUE=DATE:20250530
DTEND;VALUE=DATE:20250531
DTSTAMP:20260426T064225
CREATED:20250130T013354Z
LAST-MODIFIED:20250130T013354Z
UID:1744-1748563200-1748649599@fairviewps.wa.edu.au
SUMMARY:School Development Day
DESCRIPTION:Term 2 School Development Day – students do not attend
URL:https://fairviewps.wa.edu.au/calendar/school-development-day-6/
CATEGORIES:Whole School
END:VEVENT
BEGIN:VEVENT
DTSTART;VALUE=DATE:20250529
DTEND;VALUE=DATE:20250530
DTSTAMP:20260426T064225
CREATED:20250311T032524Z
LAST-MODIFIED:20250311T032524Z
UID:1812-1748476800-1748563199@fairviewps.wa.edu.au
SUMMARY:Faction Cross Country
DESCRIPTION:School cross country
URL:https://fairviewps.wa.edu.au/calendar/faction-cross-country/
CATEGORIES:Whole School
END:VEVENT
BEGIN:VEVENT
DTSTART;TZID=Australia/Perth:20250522T140000
DTEND;TZID=Australia/Perth:20250522T150000
DTSTAMP:20260426T064225
CREATED:20250227T044614Z
LAST-MODIFIED:20250227T044614Z
UID:1779-1747922400-1747926000@fairviewps.wa.edu.au
SUMMARY:Assembly
DESCRIPTION:Assembly hosted by Room 3.
URL:https://fairviewps.wa.edu.au/calendar/assembly-12/
CATEGORIES:Whole School
END:VEVENT
BEGIN:VEVENT
DTSTART;TZID=Australia/Perth:20250410T140000
DTEND;TZID=Australia/Perth:20250410T150000
DTSTAMP:20260426T064225
CREATED:20250227T043748Z
LAST-MODIFIED:20250227T043748Z
UID:1775-1744293600-1744297200@fairviewps.wa.edu.au
SUMMARY:Assembly
DESCRIPTION:Assembly hosted by Room 4.
URL:https://fairviewps.wa.edu.au/calendar/assembly-11/
CATEGORIES:Whole School
END:VEVENT
BEGIN:VEVENT
DTSTART;TZID=Australia/Perth:20250408T093000
DTEND;TZID=Australia/Perth:20250408T103000
DTSTAMP:20260426T064225
CREATED:20250227T044100Z
LAST-MODIFIED:20250227T044100Z
UID:1777-1744104600-1744108200@fairviewps.wa.edu.au
SUMMARY:Combined Schools ANZAC service
DESCRIPTION:Combined Schools ANZAC service at the Soldiers Park for students in Yrs 1 -6.
URL:https://fairviewps.wa.edu.au/calendar/combined-schools-anzac-service/
CATEGORIES:Whole School
END:VEVENT
BEGIN:VEVENT
DTSTART;VALUE=DATE:20250327
DTEND;VALUE=DATE:20250328
DTSTAMP:20260426T064225
CREATED:20250227T040422Z
LAST-MODIFIED:20250227T040422Z
UID:1771-1743033600-1743119999@fairviewps.wa.edu.au
SUMMARY:Aqua fun day/Swimming carnival
DESCRIPTION:Aqua fun day/Swimming carnival for students in Yrs 1 – 6
URL:https://fairviewps.wa.edu.au/calendar/aqua-fun-day-swimming-carnival/
CATEGORIES:Whole School
END:VEVENT
BEGIN:VEVENT
DTSTART;TZID=Australia/Perth:20250320T140000
DTEND;TZID=Australia/Perth:20250320T150000
DTSTAMP:20260426T064225
CREATED:20250227T043640Z
LAST-MODIFIED:20250227T043640Z
UID:1773-1742479200-1742482800@fairviewps.wa.edu.au
SUMMARY:Assembly
DESCRIPTION:Assembly hosted by Room 6.
URL:https://fairviewps.wa.edu.au/calendar/assembly-10/
CATEGORIES:Whole School
END:VEVENT
BEGIN:VEVENT
DTSTART;VALUE=DATE:20241213
DTEND;VALUE=DATE:20241214
DTSTAMP:20260426T064225
CREATED:20240308T035619Z
LAST-MODIFIED:20240308T035642Z
UID:1342-1734048000-1734134399@fairviewps.wa.edu.au
SUMMARY:School Development Day
DESCRIPTION:School Development Day – students do not attend
URL:https://fairviewps.wa.edu.au/calendar/school-development-day-5/
CATEGORIES:Whole School
END:VEVENT
END:VCALENDAR