BEGIN:VCALENDAR
VERSION:2.0
PRODID:-//Fairview Primary School - ECPv6.15.17.1//NONSGML v1.0//EN
CALSCALE:GREGORIAN
METHOD:PUBLISH
X-ORIGINAL-URL:https://fairviewps.wa.edu.au
X-WR-CALDESC:Events for Fairview Primary School
REFRESH-INTERVAL;VALUE=DURATION:PT1H
X-Robots-Tag:noindex
X-PUBLISHED-TTL:PT1H
BEGIN:VTIMEZONE
TZID:Australia/Perth
BEGIN:STANDARD
TZOFFSETFROM:+0800
TZOFFSETTO:+0800
TZNAME:AWST
DTSTART:20230101T000000
END:STANDARD
END:VTIMEZONE
BEGIN:VEVENT
DTSTART;VALUE=DATE:20241030
DTEND;VALUE=DATE:20241101
DTSTAMP:20260426T114226
CREATED:20240308T033514Z
LAST-MODIFIED:20241011T024136Z
UID:1330-1730246400-1730419199@fairviewps.wa.edu.au
SUMMARY:Book Fair
DESCRIPTION:Semester 2 Book Fair
URL:https://fairviewps.wa.edu.au/calendar/book-fair-3/
LOCATION:School library
CATEGORIES:Whole School
END:VEVENT
BEGIN:VEVENT
DTSTART;TZID=Australia/Perth:20241024T140000
DTEND;TZID=Australia/Perth:20241024T150000
DTSTAMP:20260426T114226
CREATED:20240308T033341Z
LAST-MODIFIED:20240308T033359Z
UID:1328-1729778400-1729782000@fairviewps.wa.edu.au
SUMMARY:Assembly
DESCRIPTION:
URL:https://fairviewps.wa.edu.au/calendar/assembly-8/
CATEGORIES:Whole School
END:VEVENT
BEGIN:VEVENT
DTSTART;VALUE=DATE:20241014
DTEND;VALUE=DATE:20241015
DTSTAMP:20260426T114226
CREATED:20240506T033431Z
LAST-MODIFIED:20240506T033431Z
UID:1583-1728864000-1728950399@fairviewps.wa.edu.au
SUMMARY:Athletics carnival
DESCRIPTION:Proposed date for athletics carnival
URL:https://fairviewps.wa.edu.au/calendar/athletics-carnival/
CATEGORIES:Whole School
END:VEVENT
BEGIN:VEVENT
DTSTART;VALUE=DATE:20241008
DTEND;VALUE=DATE:20241009
DTSTAMP:20260426T114226
CREATED:20240506T033542Z
LAST-MODIFIED:20240722T060000Z
UID:1585-1728345600-1728431999@fairviewps.wa.edu.au
SUMMARY:Jumps & throws
DESCRIPTION:Proposed date for jumps and throws events
URL:https://fairviewps.wa.edu.au/calendar/jumps-throws/
CATEGORIES:Whole School
END:VEVENT
BEGIN:VEVENT
DTSTART;VALUE=DATE:20241007
DTEND;VALUE=DATE:20241008
DTSTAMP:20260426T114226
CREATED:20240308T033205Z
LAST-MODIFIED:20240308T033205Z
UID:1326-1728259200-1728345599@fairviewps.wa.edu.au
SUMMARY:School Development Day
DESCRIPTION:School Development Day – students do not attend
URL:https://fairviewps.wa.edu.au/calendar/school-development-day-4/
CATEGORIES:Whole School
END:VEVENT
BEGIN:VEVENT
DTSTART;TZID=Australia/Perth:20240919T090000
DTEND;TZID=Australia/Perth:20240919T100000
DTSTAMP:20260426T114226
CREATED:20240308T032049Z
LAST-MODIFIED:20240621T053439Z
UID:1322-1726736400-1726740000@fairviewps.wa.edu.au
SUMMARY:Assembly
DESCRIPTION:Assembly hosted by Rm 18
URL:https://fairviewps.wa.edu.au/calendar/assembly-7/
CATEGORIES:Whole School
END:VEVENT
BEGIN:VEVENT
DTSTART;VALUE=DATE:20240912
DTEND;VALUE=DATE:20240913
DTSTAMP:20260426T114226
CREATED:20240308T031127Z
LAST-MODIFIED:20240308T031155Z
UID:1320-1726099200-1726185599@fairviewps.wa.edu.au
SUMMARY:School Photos
DESCRIPTION:School photos for all students and staff
URL:https://fairviewps.wa.edu.au/calendar/school-photos/
CATEGORIES:Whole School
END:VEVENT
BEGIN:VEVENT
DTSTART;TZID=Australia/Perth:20240822T140000
DTEND;TZID=Australia/Perth:20240822T150000
DTSTAMP:20260426T114226
CREATED:20240308T030853Z
LAST-MODIFIED:20240308T030923Z
UID:1318-1724335200-1724338800@fairviewps.wa.edu.au
SUMMARY:Assembly
DESCRIPTION:Assembly hosted by Rm 10
URL:https://fairviewps.wa.edu.au/calendar/assembly-6/
CATEGORIES:Whole School
END:VEVENT
BEGIN:VEVENT
DTSTART;VALUE=DATE:20240821
DTEND;VALUE=DATE:20240822
DTSTAMP:20260426T114226
CREATED:20240621T054004Z
LAST-MODIFIED:20240621T054004Z
UID:1612-1724198400-1724284799@fairviewps.wa.edu.au
SUMMARY:Book Character Day
DESCRIPTION:Book Character Day – students invited to come dressed as a favourite book character.
URL:https://fairviewps.wa.edu.au/calendar/book-character-day/
CATEGORIES:Whole School
END:VEVENT
BEGIN:VEVENT
DTSTART;TZID=Australia/Perth:20240801T140000
DTEND;TZID=Australia/Perth:20240801T150000
DTSTAMP:20260426T114226
CREATED:20240308T030635Z
LAST-MODIFIED:20240308T030635Z
UID:1316-1722520800-1722524400@fairviewps.wa.edu.au
SUMMARY:Assembly
DESCRIPTION:Assembly hosted by Rm 11
URL:https://fairviewps.wa.edu.au/calendar/assembly-5/
CATEGORIES:Whole School
END:VEVENT
BEGIN:VEVENT
DTSTART;VALUE=DATE:20240715
DTEND;VALUE=DATE:20240716
DTSTAMP:20260426T114226
CREATED:20240308T030512Z
LAST-MODIFIED:20240308T030512Z
UID:1314-1721001600-1721087999@fairviewps.wa.edu.au
SUMMARY:School Development Day
DESCRIPTION:School Development Day – students do not attend school
URL:https://fairviewps.wa.edu.au/calendar/school-development-day-3/
CATEGORIES:Whole School
END:VEVENT
BEGIN:VEVENT
DTSTART;TZID=Australia/Perth:20240625T090000
DTEND;TZID=Australia/Perth:20240625T093000
DTSTAMP:20260426T114226
CREATED:20240308T030039Z
LAST-MODIFIED:20240417T041451Z
UID:1310-1719306000-1719307800@fairviewps.wa.edu.au
SUMMARY:Assembly
DESCRIPTION:Assembly (TBC) hosted by LOTE students \n 
URL:https://fairviewps.wa.edu.au/calendar/assembly-4/
CATEGORIES:Whole School
END:VEVENT
BEGIN:VEVENT
DTSTART;TZID=Australia/Perth:20240606T140000
DTEND;TZID=Australia/Perth:20240606T150000
DTSTAMP:20260426T114226
CREATED:20240308T023903Z
LAST-MODIFIED:20240418T035605Z
UID:1306-1717682400-1717686000@fairviewps.wa.edu.au
SUMMARY:Assembly
DESCRIPTION:Assembly hosted by Rm 12
URL:https://fairviewps.wa.edu.au/calendar/assembly-3/
CATEGORIES:Whole School
END:VEVENT
BEGIN:VEVENT
DTSTART;VALUE=DATE:20240530
DTEND;VALUE=DATE:20240531
DTSTAMP:20260426T114226
CREATED:20240418T035722Z
LAST-MODIFIED:20240418T035722Z
UID:1573-1717027200-1717113599@fairviewps.wa.edu.au
SUMMARY:Visiting author
DESCRIPTION:Incursion with visiting author Mark Greenwood
URL:https://fairviewps.wa.edu.au/calendar/visiting-author/
CATEGORIES:Whole School
END:VEVENT
BEGIN:VEVENT
DTSTART;TZID=Australia/Perth:20240522T083000
DTEND;TZID=Australia/Perth:20240523T153000
DTSTAMP:20260426T114226
CREATED:20240308T023549Z
LAST-MODIFIED:20240308T023549Z
UID:1302-1716366600-1716478200@fairviewps.wa.edu.au
SUMMARY:Book Fair
DESCRIPTION:Semester 1 Book Fair
URL:https://fairviewps.wa.edu.au/calendar/book-fair-2/
LOCATION:School library
CATEGORIES:Whole School
END:VEVENT
BEGIN:VEVENT
DTSTART;TZID=Australia/Perth:20240522T080000
DTEND;TZID=Australia/Perth:20240522T170000
DTSTAMP:20260426T114226
CREATED:20240308T023636Z
LAST-MODIFIED:20240308T023750Z
UID:1304-1716364800-1716397200@fairviewps.wa.edu.au
SUMMARY:National Simultaneous Storytime
DESCRIPTION:
URL:https://fairviewps.wa.edu.au/calendar/national-simultaneous-storytime/
CATEGORIES:Whole School
END:VEVENT
BEGIN:VEVENT
DTSTART;TZID=Australia/Perth:20240514T083000
DTEND;TZID=Australia/Perth:20240516T153000
DTSTAMP:20260426T114226
CREATED:20240308T023347Z
LAST-MODIFIED:20240308T023347Z
UID:1298-1715675400-1715873400@fairviewps.wa.edu.au
SUMMARY:Book Fair
DESCRIPTION:Semester 1 Book Fair
URL:https://fairviewps.wa.edu.au/calendar/book-fair/
LOCATION:School library
CATEGORIES:Whole School
END:VEVENT
BEGIN:VEVENT
DTSTART;VALUE=DATE:20240513
DTEND;VALUE=DATE:20240514
DTSTAMP:20260426T114226
CREATED:20240417T041609Z
LAST-MODIFIED:20240417T041639Z
UID:1563-1715558400-1715644799@fairviewps.wa.edu.au
SUMMARY:Cross Country
DESCRIPTION:Faction cross country for students PP – Yr 6
URL:https://fairviewps.wa.edu.au/calendar/cross-country/
CATEGORIES:Whole School
END:VEVENT
BEGIN:VEVENT
DTSTART;TZID=Australia/Perth:20240509T140000
DTEND;TZID=Australia/Perth:20240509T150000
DTSTAMP:20260426T114226
CREATED:20240308T022640Z
LAST-MODIFIED:20240417T041110Z
UID:1296-1715263200-1715266800@fairviewps.wa.edu.au
SUMMARY:Assembly
DESCRIPTION:Assembly hosted by Rm 13
URL:https://fairviewps.wa.edu.au/calendar/assembly-2/
CATEGORIES:Whole School
END:VEVENT
BEGIN:VEVENT
DTSTART;VALUE=DATE:20240415
DTEND;VALUE=DATE:20240416
DTSTAMP:20260426T114226
CREATED:20231208T053742Z
LAST-MODIFIED:20231208T053742Z
UID:1258-1713139200-1713225599@fairviewps.wa.edu.au
SUMMARY:School Development Day
DESCRIPTION:
URL:https://fairviewps.wa.edu.au/calendar/school-development-day-2/
CATEGORIES:Whole School
END:VEVENT
BEGIN:VEVENT
DTSTART;TZID=Australia/Perth:20240328T140000
DTEND;TZID=Australia/Perth:20240328T150000
DTSTAMP:20260426T114226
CREATED:20240308T013133Z
LAST-MODIFIED:20240308T013205Z
UID:1292-1711634400-1711638000@fairviewps.wa.edu.au
SUMMARY:Assembly
DESCRIPTION:Assembly hosted by Rm 8
URL:https://fairviewps.wa.edu.au/calendar/assembly/
CATEGORIES:Whole School
END:VEVENT
BEGIN:VEVENT
DTSTART;VALUE=DATE:20240313
DTEND;VALUE=DATE:20240326
DTSTAMP:20260426T114226
CREATED:20231208T041911Z
LAST-MODIFIED:20231208T041911Z
UID:1251-1710288000-1711411199@fairviewps.wa.edu.au
SUMMARY:NAPLAN
DESCRIPTION:NAPLAN testing for students in Yrs 3 & 5
URL:https://fairviewps.wa.edu.au/calendar/naplan/
CATEGORIES:Whole School
END:VEVENT
BEGIN:VEVENT
DTSTART;VALUE=DATE:20240229
DTEND;VALUE=DATE:20240301
DTSTAMP:20260426T114226
CREATED:20231208T041705Z
LAST-MODIFIED:20231208T041705Z
UID:1249-1709164800-1709251199@fairviewps.wa.edu.au
SUMMARY:Swimming Carnival/Aqua Fun Day
DESCRIPTION:Swimming carnival and Aqua Fun day for students in Yrs 1-6
URL:https://fairviewps.wa.edu.au/calendar/swimming-carnival-aqua-fun-day/
CATEGORIES:Whole School
END:VEVENT
BEGIN:VEVENT
DTSTART;VALUE=DATE:20240131
DTEND;VALUE=DATE:20240201
DTSTAMP:20260426T114226
CREATED:20231208T033923Z
LAST-MODIFIED:20231208T034000Z
UID:1245-1706659200-1706745599@fairviewps.wa.edu.au
SUMMARY:Students resume Term 1
DESCRIPTION:
URL:https://fairviewps.wa.edu.au/calendar/students-resume-term-1/
CATEGORIES:Whole School
END:VEVENT
BEGIN:VEVENT
DTSTART;VALUE=DATE:20240129
DTEND;VALUE=DATE:20240131
DTSTAMP:20260426T114226
CREATED:20231208T034510Z
LAST-MODIFIED:20231208T034510Z
UID:1247-1706486400-1706659199@fairviewps.wa.edu.au
SUMMARY:School development day
DESCRIPTION:
URL:https://fairviewps.wa.edu.au/calendar/school-development-day/
CATEGORIES:Whole School
END:VEVENT
END:VCALENDAR